BEGIN:VCALENDAR
VERSION:2.0
PRODID:-//רוי בוי - ECPv5.9.1//NONSGML v1.0//EN
CALSCALE:GREGORIAN
METHOD:PUBLISH
X-WR-CALNAME:רוי בוי
X-ORIGINAL-URL:https://www.royboy.co.il
X-WR-CALDESC:אירועים ל רוי בוי
BEGIN:VTIMEZONE
TZID:Asia/Jerusalem
BEGIN:DAYLIGHT
TZOFFSETFROM:+0200
TZOFFSETTO:+0300
TZNAME:IDT
DTSTART:20210326T000000
END:DAYLIGHT
BEGIN:STANDARD
TZOFFSETFROM:+0300
TZOFFSETTO:+0200
TZNAME:IST
DTSTART:20211030T230000
END:STANDARD
END:VTIMEZONE
BEGIN:VEVENT
DTSTART;TZID=Asia/Jerusalem:20210820T093000
DTEND;TZID=Asia/Jerusalem:20210820T133000
DTSTAMP:20211020T165720
CREATED:20210808T090358Z
LAST-MODIFIED:20210817T115359Z
UID:1969-1629451800-1629466200@www.royboy.co.il
SUMMARY:שישי בפארק
DESCRIPTION:
URL:https://www.royboy.co.il/event/%d7%a9%d7%99%d7%a9%d7%99-%d7%91%d7%a4%d7%90%d7%a8%d7%a7-2/
ATTACH;FMTTYPE=image/png:https://www.royboy.co.il/wp-content/uploads/2021/06/RoyBoyPark-Base.png
END:VEVENT
BEGIN:VEVENT
DTSTART;TZID=Asia/Jerusalem:20210821T100000
DTEND;TZID=Asia/Jerusalem:20210821T140000
DTSTAMP:20211020T165720
CREATED:20210808T090839Z
LAST-MODIFIED:20210821T084741Z
UID:1981-1629540000-1629554400@www.royboy.co.il
SUMMARY:שבת בפארק
DESCRIPTION:
URL:https://www.royboy.co.il/event/%d7%a9%d7%91%d7%aa-%d7%91%d7%a4%d7%90%d7%a8%d7%a7/
LOCATION:רוי בוי פארק\, רוי בוי פארק\, ראשון לציון\, Israel
ATTACH;FMTTYPE=image/png:https://www.royboy.co.il/wp-content/uploads/2021/06/RoyBoyPark-Base.png
END:VEVENT
BEGIN:VEVENT
DTSTART;TZID=Asia/Jerusalem:20210826T160000
DTEND;TZID=Asia/Jerusalem:20210826T200000
DTSTAMP:20211020T165720
CREATED:20210729T155357Z
LAST-MODIFIED:20210817T114907Z
UID:1780-1629993600-1630008000@www.royboy.co.il
SUMMARY:חמישי בפארק
DESCRIPTION: \n 
URL:https://www.royboy.co.il/event/%d7%a8%d7%95%d7%99-%d7%91%d7%95%d7%99-%d7%a4%d7%90%d7%a8%d7%a7-3/
LOCATION:רוי בוי פארק\, רוי בוי פארק\, ראשון לציון\, Israel
ATTACH;FMTTYPE=image/png:https://www.royboy.co.il/wp-content/uploads/2021/06/RoyBoyPark-Base.png
END:VEVENT
BEGIN:VEVENT
DTSTART;TZID=Asia/Jerusalem:20210827T093000
DTEND;TZID=Asia/Jerusalem:20210827T133000
DTSTAMP:20211020T165720
CREATED:20210729T160115Z
LAST-MODIFIED:20210817T133539Z
UID:1798-1630056600-1630071000@www.royboy.co.il
SUMMARY:שישי בפארק - הפארק סגור
DESCRIPTION:
URL:https://www.royboy.co.il/event/%d7%a9%d7%99%d7%a9%d7%99-%d7%91%d7%a4%d7%90%d7%a8%d7%a7/
ATTACH;FMTTYPE=image/png:https://www.royboy.co.il/wp-content/uploads/2021/06/RoyBoyPark-Base.png
END:VEVENT
BEGIN:VEVENT
DTSTART;TZID=Asia/Jerusalem:20210828T100000
DTEND;TZID=Asia/Jerusalem:20210828T140000
DTSTAMP:20211020T165720
CREATED:20210729T110257Z
LAST-MODIFIED:20210817T115456Z
UID:1719-1630144800-1630159200@www.royboy.co.il
SUMMARY:שבת בפארק
DESCRIPTION:
URL:https://www.royboy.co.il/event/%d7%a8%d7%95%d7%99-%d7%91%d7%95%d7%99-%d7%a4%d7%90%d7%a8%d7%a7-2/
LOCATION:רוי בוי פארק\, רוי בוי פארק\, ראשון לציון\, Israel
ATTACH;FMTTYPE=image/png:https://www.royboy.co.il/wp-content/uploads/2021/06/RoyBoyPark-Base.png
END:VEVENT
BEGIN:VEVENT
DTSTART;TZID=Asia/Jerusalem:20210904T100000
DTEND;TZID=Asia/Jerusalem:20210904T140000
DTSTAMP:20211020T165720
CREATED:20210817T135200Z
LAST-MODIFIED:20210817T135200Z
UID:2562-1630749600-1630764000@www.royboy.co.il
SUMMARY:שבת בפארק
DESCRIPTION:
URL:https://www.royboy.co.il/event/%d7%a9%d7%91%d7%aa-%d7%91%d7%a4%d7%90%d7%a8%d7%a7-3/
LOCATION:רוי בוי פארק\, רוי בוי פארק\, ראשון לציון\, Israel
ATTACH;FMTTYPE=image/png:https://www.royboy.co.il/wp-content/uploads/2021/06/RoyBoyPark-Base.png
END:VEVENT
BEGIN:VEVENT
DTSTART;TZID=Asia/Jerusalem:20210908T100000
DTEND;TZID=Asia/Jerusalem:20210908T140000
DTSTAMP:20211020T165720
CREATED:20210826T141408Z
LAST-MODIFIED:20210908T070937Z
UID:2744-1631095200-1631109600@www.royboy.co.il
SUMMARY:רביעי בפארק
DESCRIPTION:
URL:https://www.royboy.co.il/event/%d7%a8%d7%91%d7%99%d7%a2%d7%99-%d7%91%d7%a4%d7%90%d7%a8%d7%a7/
LOCATION:רוי בוי פארק\, רוי בוי פארק\, ראשון לציון\, Israel
ATTACH;FMTTYPE=image/png:https://www.royboy.co.il/wp-content/uploads/2021/06/RoyBoyPark-Base.png
END:VEVENT
BEGIN:VEVENT
DTSTART;TZID=Asia/Jerusalem:20210911T100000
DTEND;TZID=Asia/Jerusalem:20210911T140000
DTSTAMP:20211020T165720
CREATED:20210826T142032Z
LAST-MODIFIED:20210908T071057Z
UID:2750-1631354400-1631368800@www.royboy.co.il
SUMMARY:שבת בפארק
DESCRIPTION:
URL:https://www.royboy.co.il/event/%d7%a9%d7%91%d7%aa-%d7%91%d7%a4%d7%90%d7%a8%d7%a7-4/
LOCATION:רוי בוי פארק\, רוי בוי פארק\, ראשון לציון\, Israel
ATTACH;FMTTYPE=image/png:https://www.royboy.co.il/wp-content/uploads/2021/06/RoyBoyPark-Base.png
END:VEVENT
BEGIN:VEVENT
DTSTART;TZID=Asia/Jerusalem:20210918T100000
DTEND;TZID=Asia/Jerusalem:20210918T140000
DTSTAMP:20211020T165720
CREATED:20210826T142148Z
LAST-MODIFIED:20210918T053203Z
UID:2756-1631959200-1631973600@www.royboy.co.il
SUMMARY:שבת בפארק
DESCRIPTION:
URL:https://www.royboy.co.il/event/%d7%a9%d7%91%d7%aa-%d7%91%d7%a4%d7%90%d7%a8%d7%a7-5/
LOCATION:רוי בוי פארק\, רוי בוי פארק\, ראשון לציון\, Israel
ATTACH;FMTTYPE=image/png:https://www.royboy.co.il/wp-content/uploads/2021/06/RoyBoyPark-Base.png
END:VEVENT
BEGIN:VEVENT
DTSTART;TZID=Asia/Jerusalem:20210922T100000
DTEND;TZID=Asia/Jerusalem:20210922T140000
DTSTAMP:20211020T165720
CREATED:20210826T142321Z
LAST-MODIFIED:20210908T071248Z
UID:2762-1632304800-1632319200@www.royboy.co.il
SUMMARY:רביעי בפארק
DESCRIPTION:
URL:https://www.royboy.co.il/event/%d7%a8%d7%91%d7%99%d7%a2%d7%99-%d7%91%d7%a4%d7%90%d7%a8%d7%a7-2/
LOCATION:רוי בוי פארק\, רוי בוי פארק\, ראשון לציון\, Israel
ATTACH;FMTTYPE=image/png:https://www.royboy.co.il/wp-content/uploads/2021/06/RoyBoyPark-Base.png
END:VEVENT
BEGIN:VEVENT
DTSTART;TZID=Asia/Jerusalem:20210923T100000
DTEND;TZID=Asia/Jerusalem:20210923T140000
DTSTAMP:20211020T165720
CREATED:20210826T142519Z
LAST-MODIFIED:20210908T071337Z
UID:2768-1632391200-1632405600@www.royboy.co.il
SUMMARY:חמישי בפארק
DESCRIPTION:
URL:https://www.royboy.co.il/event/%d7%97%d7%9e%d7%99%d7%a9%d7%99-%d7%91%d7%a4%d7%90%d7%a8%d7%a7-4/
LOCATION:רוי בוי פארק\, רוי בוי פארק\, ראשון לציון\, Israel
ATTACH;FMTTYPE=image/png:https://www.royboy.co.il/wp-content/uploads/2021/06/RoyBoyPark-Base.png
END:VEVENT
BEGIN:VEVENT
DTSTART;TZID=Asia/Jerusalem:20210924T100000
DTEND;TZID=Asia/Jerusalem:20210924T140000
DTSTAMP:20211020T165720
CREATED:20210826T142640Z
LAST-MODIFIED:20210908T071424Z
UID:2774-1632477600-1632492000@www.royboy.co.il
SUMMARY:שישי בפארק
DESCRIPTION:
URL:https://www.royboy.co.il/event/%d7%a9%d7%99%d7%a9%d7%99-%d7%91%d7%a4%d7%90%d7%a8%d7%a7-4/
LOCATION:רוי בוי פארק\, רוי בוי פארק\, ראשון לציון\, Israel
ATTACH;FMTTYPE=image/png:https://www.royboy.co.il/wp-content/uploads/2021/06/RoyBoyPark-Base.png
END:VEVENT
BEGIN:VEVENT
DTSTART;TZID=Asia/Jerusalem:20210925T100000
DTEND;TZID=Asia/Jerusalem:20210925T140000
DTSTAMP:20211020T165720
CREATED:20210826T142820Z
LAST-MODIFIED:20210925T004857Z
UID:2780-1632564000-1632578400@www.royboy.co.il
SUMMARY:שבת בפארק
DESCRIPTION:
URL:https://www.royboy.co.il/event/%d7%a9%d7%91%d7%aa-%d7%91%d7%a4%d7%90%d7%a8%d7%a7-6/
LOCATION:רוי בוי פארק\, רוי בוי פארק\, ראשון לציון\, Israel
ATTACH;FMTTYPE=image/png:https://www.royboy.co.il/wp-content/uploads/2021/06/RoyBoyPark-Base.png
END:VEVENT
BEGIN:VEVENT
DTSTART;TZID=Asia/Jerusalem:20210926T100000
DTEND;TZID=Asia/Jerusalem:20210926T140000
DTSTAMP:20211020T165720
CREATED:20210826T142939Z
LAST-MODIFIED:20210926T070022Z
UID:2786-1632650400-1632664800@www.royboy.co.il
SUMMARY:ראשון בפארק
DESCRIPTION:
URL:https://www.royboy.co.il/event/%d7%a8%d7%90%d7%a9%d7%95%d7%9f-%d7%91%d7%a4%d7%90%d7%a8%d7%a7/
LOCATION:רוי בוי פארק\, רוי בוי פארק\, ראשון לציון\, Israel
ATTACH;FMTTYPE=image/png:https://www.royboy.co.il/wp-content/uploads/2021/06/RoyBoyPark-Base.png
END:VEVENT
BEGIN:VEVENT
DTSTART;TZID=Asia/Jerusalem:20210927T100000
DTEND;TZID=Asia/Jerusalem:20210927T140000
DTSTAMP:20211020T165720
CREATED:20210826T143057Z
LAST-MODIFIED:20210908T071645Z
UID:2792-1632736800-1632751200@www.royboy.co.il
SUMMARY:שני בפארק
DESCRIPTION:
URL:https://www.royboy.co.il/event/%d7%a9%d7%a0%d7%99-%d7%91%d7%a4%d7%90%d7%a8%d7%a7/
LOCATION:רוי בוי פארק\, רוי בוי פארק\, ראשון לציון\, Israel
ATTACH;FMTTYPE=image/png:https://www.royboy.co.il/wp-content/uploads/2021/06/RoyBoyPark-Base.png
END:VEVENT
BEGIN:VEVENT
DTSTART;TZID=Asia/Jerusalem:20210928T100000
DTEND;TZID=Asia/Jerusalem:20210928T140000
DTSTAMP:20211020T165720
CREATED:20210923T134359Z
LAST-MODIFIED:20210928T074847Z
UID:3671-1632823200-1632837600@www.royboy.co.il
SUMMARY:שלישי בפארק
DESCRIPTION:
URL:https://www.royboy.co.il/event/%d7%a9%d7%9c%d7%99%d7%a9%d7%99-%d7%91%d7%a4%d7%90%d7%a8%d7%a7/
LOCATION:רוי בוי פארק\, רוי בוי פארק\, ראשון לציון\, Israel
ATTACH;FMTTYPE=image/png:https://www.royboy.co.il/wp-content/uploads/2021/06/RoyBoyPark-Base.png
END:VEVENT
BEGIN:VEVENT
DTSTART;TZID=Asia/Jerusalem:20211002T100000
DTEND;TZID=Asia/Jerusalem:20211002T140000
DTSTAMP:20211020T165720
CREATED:20210924T103458Z
LAST-MODIFIED:20211002T073651Z
UID:3740-1633168800-1633183200@www.royboy.co.il
SUMMARY:שבת בפארק
DESCRIPTION:
URL:https://www.royboy.co.il/event/%d7%a9%d7%91%d7%aa-%d7%91%d7%a4%d7%90%d7%a8%d7%a7-7/
LOCATION:רוי בוי פארק\, רוי בוי פארק\, ראשון לציון\, Israel
ATTACH;FMTTYPE=image/png:https://www.royboy.co.il/wp-content/uploads/2021/06/RoyBoyPark-Base.png
END:VEVENT
BEGIN:VEVENT
DTSTART;TZID=Asia/Jerusalem:20211009T100000
DTEND;TZID=Asia/Jerusalem:20211009T140000
DTSTAMP:20211020T165720
CREATED:20210925T050207Z
LAST-MODIFIED:20211005T100751Z
UID:3793-1633773600-1633788000@www.royboy.co.il
SUMMARY:שבת בפארק
DESCRIPTION:
URL:https://www.royboy.co.il/event/%d7%a9%d7%91%d7%aa-%d7%91%d7%a4%d7%90%d7%a8%d7%a7-8/
LOCATION:רוי בוי פארק\, רוי בוי פארק\, ראשון לציון\, Israel
ATTACH;FMTTYPE=image/png:https://www.royboy.co.il/wp-content/uploads/2021/06/RoyBoyPark-Base.png
END:VEVENT
BEGIN:VEVENT
DTSTART;TZID=Asia/Jerusalem:20211016T100000
DTEND;TZID=Asia/Jerusalem:20211016T140000
DTSTAMP:20211020T165720
CREATED:20210925T050447Z
LAST-MODIFIED:20211016T072112Z
UID:3799-1634378400-1634392800@www.royboy.co.il
SUMMARY:שבת בפארק
DESCRIPTION:
URL:https://www.royboy.co.il/event/%d7%a9%d7%91%d7%aa-%d7%91%d7%a4%d7%90%d7%a8%d7%a7-9/
LOCATION:רוי בוי פארק\, רוי בוי פארק\, ראשון לציון\, Israel
ATTACH;FMTTYPE=image/png:https://www.royboy.co.il/wp-content/uploads/2021/06/RoyBoyPark-Base.png
END:VEVENT
BEGIN:VEVENT
DTSTART;TZID=Asia/Jerusalem:20211023T100000
DTEND;TZID=Asia/Jerusalem:20211023T140000
DTSTAMP:20211020T165720
CREATED:20210925T050849Z
LAST-MODIFIED:20210928T075418Z
UID:3806-1634983200-1634997600@www.royboy.co.il
SUMMARY:שבת בפארק
DESCRIPTION:
URL:https://www.royboy.co.il/event/%d7%a9%d7%91%d7%aa-%d7%91%d7%a4%d7%90%d7%a8%d7%a7-10/
LOCATION:רוי בוי פארק\, רוי בוי פארק\, ראשון לציון\, Israel
ATTACH;FMTTYPE=image/png:https://www.royboy.co.il/wp-content/uploads/2021/06/RoyBoyPark-Base.png
END:VEVENT
BEGIN:VEVENT
DTSTART;TZID=Asia/Jerusalem:20211030T100000
DTEND;TZID=Asia/Jerusalem:20211030T140000
DTSTAMP:20211020T165720
CREATED:20210925T051026Z
LAST-MODIFIED:20210928T075524Z
UID:3812-1635588000-1635602400@www.royboy.co.il
SUMMARY:שבת בפארק
DESCRIPTION:
URL:https://www.royboy.co.il/event/%d7%a9%d7%91%d7%aa-%d7%91%d7%a4%d7%90%d7%a8%d7%a7-11/
LOCATION:רוי בוי פארק\, רוי בוי פארק\, ראשון לציון\, Israel
ATTACH;FMTTYPE=image/png:https://www.royboy.co.il/wp-content/uploads/2021/06/RoyBoyPark-Base.png
END:VEVENT
BEGIN:VEVENT
DTSTART;TZID=Asia/Jerusalem:20211106T100000
DTEND;TZID=Asia/Jerusalem:20211106T140000
DTSTAMP:20211020T165720
CREATED:20211005T101220Z
LAST-MODIFIED:20211005T101220Z
UID:4252-1636192800-1636207200@www.royboy.co.il
SUMMARY:שבת בפארק
DESCRIPTION:
URL:https://www.royboy.co.il/event/%d7%a9%d7%91%d7%aa-%d7%91%d7%a4%d7%90%d7%a8%d7%a7-12/
LOCATION:רוי בוי פארק\, רוי בוי פארק\, ראשון לציון\, Israel
ATTACH;FMTTYPE=image/png:https://www.royboy.co.il/wp-content/uploads/2021/06/RoyBoyPark-Base.png
END:VEVENT
END:VCALENDAR