BEGIN:VCALENDAR
VERSION:2.0
PRODID:-//רוי בוי - ECPv5.9.1//NONSGML v1.0//EN
CALSCALE:GREGORIAN
METHOD:PUBLISH
X-WR-CALNAME:רוי בוי
X-ORIGINAL-URL:https://www.royboy.co.il
X-WR-CALDESC:אירועים ל רוי בוי
BEGIN:VTIMEZONE
TZID:Asia/Jerusalem
BEGIN:DAYLIGHT
TZOFFSETFROM:+0200
TZOFFSETTO:+0300
TZNAME:IDT
DTSTART:20210326T000000
END:DAYLIGHT
BEGIN:STANDARD
TZOFFSETFROM:+0300
TZOFFSETTO:+0200
TZNAME:IST
DTSTART:20211030T230000
END:STANDARD
END:VTIMEZONE
BEGIN:VEVENT
DTSTART;TZID=Asia/Jerusalem:20210805T160000
DTEND;TZID=Asia/Jerusalem:20210805T200000
DTSTAMP:20211009T093807
CREATED:20210808T094618Z
LAST-MODIFIED:20210817T115914Z
UID:1997-1628179200-1628193600@www.royboy.co.il
SUMMARY:חמישי בפארק
DESCRIPTION: \n 
URL:https://www.royboy.co.il/event/%d7%97%d7%9e%d7%99%d7%a9%d7%99-%d7%91%d7%a4%d7%90%d7%a8%d7%a7-3/
LOCATION:רוי בוי פארק\, רוי בוי פארק\, ראשון לציון\, Israel
ATTACH;FMTTYPE=image/png:https://www.royboy.co.il/wp-content/uploads/2021/06/RoyBoyPark-Base.png
END:VEVENT
END:VCALENDAR