BEGIN:VCALENDAR
VERSION:2.0
PRODID:-//רוי בוי - ECPv5.9.1//NONSGML v1.0//EN
CALSCALE:GREGORIAN
METHOD:PUBLISH
X-WR-CALNAME:רוי בוי
X-ORIGINAL-URL:https://www.royboy.co.il
X-WR-CALDESC:אירועים ל רוי בוי
BEGIN:VTIMEZONE
TZID:Asia/Jerusalem
BEGIN:DAYLIGHT
TZOFFSETFROM:+0200
TZOFFSETTO:+0300
TZNAME:IDT
DTSTART:20210326T000000
END:DAYLIGHT
BEGIN:STANDARD
TZOFFSETFROM:+0300
TZOFFSETTO:+0200
TZNAME:IST
DTSTART:20211030T230000
END:STANDARD
END:VTIMEZONE
BEGIN:VEVENT
DTSTART;TZID=Asia/Jerusalem:20210926T100000
DTEND;TZID=Asia/Jerusalem:20210926T140000
DTSTAMP:20210927T014049
CREATED:20210826T142939Z
LAST-MODIFIED:20210926T070022Z
UID:2786-1632650400-1632664800@www.royboy.co.il
SUMMARY:ראשון בפארק
DESCRIPTION:
URL:https://www.royboy.co.il/event/%d7%a8%d7%90%d7%a9%d7%95%d7%9f-%d7%91%d7%a4%d7%90%d7%a8%d7%a7/
LOCATION:רוי בוי פארק\, רוי בוי פארק\, ראשון לציון\, Israel
ATTACH;FMTTYPE=image/png:https://www.royboy.co.il/wp-content/uploads/2021/06/RoyBoyPark-Base.png
END:VEVENT
BEGIN:VEVENT
DTSTART;TZID=Asia/Jerusalem:20210927T100000
DTEND;TZID=Asia/Jerusalem:20210927T140000
DTSTAMP:20210927T014049
CREATED:20210826T143057Z
LAST-MODIFIED:20210908T071645Z
UID:2792-1632736800-1632751200@www.royboy.co.il
SUMMARY:שני בפארק
DESCRIPTION:
URL:https://www.royboy.co.il/event/%d7%a9%d7%a0%d7%99-%d7%91%d7%a4%d7%90%d7%a8%d7%a7/
LOCATION:רוי בוי פארק\, רוי בוי פארק\, ראשון לציון\, Israel
ATTACH;FMTTYPE=image/png:https://www.royboy.co.il/wp-content/uploads/2021/06/RoyBoyPark-Base.png
END:VEVENT
BEGIN:VEVENT
DTSTART;TZID=Asia/Jerusalem:20210928T100000
DTEND;TZID=Asia/Jerusalem:20210928T140000
DTSTAMP:20210927T014049
CREATED:20210923T134359Z
LAST-MODIFIED:20210923T134359Z
UID:3671-1632823200-1632837600@www.royboy.co.il
SUMMARY:שלישי בפארק
DESCRIPTION:
URL:https://www.royboy.co.il/event/%d7%a9%d7%9c%d7%99%d7%a9%d7%99-%d7%91%d7%a4%d7%90%d7%a8%d7%a7/
LOCATION:רוי בוי פארק\, רוי בוי פארק\, ראשון לציון\, Israel
ATTACH;FMTTYPE=image/png:https://www.royboy.co.il/wp-content/uploads/2021/06/RoyBoyPark-Base.png
END:VEVENT
BEGIN:VEVENT
DTSTART;TZID=Asia/Jerusalem:20211002T100000
DTEND;TZID=Asia/Jerusalem:20211002T140000
DTSTAMP:20210927T014049
CREATED:20210924T103458Z
LAST-MODIFIED:20210924T103458Z
UID:3740-1633168800-1633183200@www.royboy.co.il
SUMMARY:שבת בפארק
DESCRIPTION:
URL:https://www.royboy.co.il/event/%d7%a9%d7%91%d7%aa-%d7%91%d7%a4%d7%90%d7%a8%d7%a7-7/
LOCATION:רוי בוי פארק\, רוי בוי פארק\, ראשון לציון\, Israel
ATTACH;FMTTYPE=image/png:https://www.royboy.co.il/wp-content/uploads/2021/06/RoyBoyPark-Base.png
END:VEVENT
END:VCALENDAR